Workbook

Sheet 2024
B1: Peso | C1: Lauda 1 fonte | D1: Lauda 2 fontes | E1: Lauda 3 fontes | F1: Diária 5 h | G1: Diária 7h | H1: Domingos e Feriados | I1: Diária viagem 5h | J1: Diária Viagem 7h | K1: Viagem domingos e feriados
A2: MG | B2: 7 | C2: 190 | D2: 190 | E2: 190 | F2: 576 | G2: 1100 | H2: 1156 | I2: 726 | J2: 1236 | K2: 1454
A3: SP | B3: 8 | C3: 365 | D3: 459 | E3: 547 | F3: 767 | G3: 1429 | H3: 1429 | I3: 767 | J3: 1429 | K3: 1429
A4: Juiz de Fora | B4: 6 | C4: 120 | D4: 120 | E4: 120 | F4: 395 | G4: 670 | H4: 785 | I4: 495 | J4: 840 | K4: 990
A5: ES | B5: 4 | C5: 120 | D5: 242 | E5: 180 | F5: 784 | G5: 1330 | H5: 1556 | I5: 981 | J5: 1668 | K5: 1961
A6: SC | B6: 3 | C6: 365 | D6: 459 | E6: 547 | F6: 600 | G6: 1500 | H6: 1500 | I6: 600 | J6: 1500 | K6: 1500
A7: RS | B7: 2 | C7: 219 | D7: 219 | E7: 219 | F7: 857.33 | G7: 1200 | H7: 1200 | I7: 857.33 | J7: 1200 | K7: 1200
A8: CE | B8: 1 | C8: 301.6 | D8: 301.6 | E8: 301.6 | F8: 466.71 | G8: 653.39 | H8: 653.39 | I8: 653.39 | J8: 1248.93 | K8: 1248.93
A9: GO | B9: 5 | C9: 160 | D9: 160 | E9: 160 | F9: 600 | G9: 880 | H9: 880 | I9: 880 | J9: 880 | K9: 880
A11: Média ponderada | B11: 7 | C11: =(((C2*B2)+(C3*B3)+(C4*B4)+(C5*B5)+(C6*B6)+(C7*B7)+(C8*B8)+(C9*B9))/SUM(B2:B9)) -> 224.57222 | D11: =(((D2*C2)+(D3*C3)+(D4*C4)+(D5*C5)+(D6*C6)+(D7*C7)+(D8*C8)+(D9*C9))/SUM(C2:C9)) -> 314.6439 | E11: =(((E2*D2)+(E3*D3)+(E4*D4)+(E5*D5)+(E6*D6)+(E7*D7)+(E8*D8)+(E9*D9))/SUM(D2:D9)) -> 353.72899 | F11: =(((F2*E2)+(F3*E3)+(F4*E4)+(F5*E5)+(F6*E6)+(F7*E7)+(F8*E8)+(F9*E9))/SUM(E2:E9)) -> 649.22017 | G11: =(((G2*F2)+(G3*F3)+(G4*F4)+(G5*F5)+(G6*F6)+(G7*F7)+(G8*F8)+(G9*F9))/SUM(F2:F9)) -> 1149.169 | H11: =(((H2*G2)+(H3*G3)+(H4*G4)+(H5*G5)+(H6*G6)+(H7*G7)+(H8*G8)+(H9*G9))/SUM(G2:G9)) -> 1232.5849 | I11: =(((I2*H2)+(I3*H3)+(I4*H4)+(I5*H5)+(I6*H6)+(I7*H7)+(I8*H8)+(I9*H9))/SUM(H2:H9)) -> 762.10583 | J11: =(((J2*I2)+(J3*I3)+(J4*I4)+(J5*I5)+(J6*I6)+(J7*I7)+(J8*I8)+(J9*I9))/SUM(I2:I9)) -> 1269.3082 | K11: =(((K2*J2)+(K3*J3)+(K4*J4)+(K5*J5)+(K6*J6)+(K7*J7)+(K8*J8)+(K9*J9))/SUM(J2:J9)) -> 1396.3264
A12: Média geral | B12: 1 | C12: =AVERAGE(C2:C9) -> 230.075 | D12: =AVERAGE(D2:D9) -> 268.825 | E12: =AVERAGE(E2:E9) -> 283.075 | F12: =AVERAGE(F2:F9) -> 630.755 | G12: =AVERAGE(G2:G9) -> 1095.2987 | H12: =AVERAGE(H2:H9) -> 1144.9237 | I12: =AVERAGE(I2:I9) -> 744.965 | J12: =AVERAGE(J2:J9) -> 1250.2413 | K12: =AVERAGE(K2:K9) -> 1332.8663
A13: Média Geométrica | B13: 5 | C13: =GEOMEAN(C2:C9) -> 210.48064 | D13: =GEOMEAN(D2:D9) -> 243.3164 | E13: =GEOMEAN(E2:E9) -> 244.98934 | F13: =GEOMEAN(F2:F9) -> 612.10874 | G13: =GEOMEAN(G2:G9) -> 1047.5141 | H13: =GEOMEAN(H2:H9) -> 1096.4141 | I13: =GEOMEAN(I2:I9) -> 729.23932 | J13: =GEOMEAN(J2:J9) -> 1219.6281 | K13: =GEOMEAN(K2:K9) -> 1296.4338
A14: Média Harmônica | B14: 4 | C14: =HARMEAN(C2:C9) -> 192.58019 | D14: =HARMEAN(D2:D9) -> 220.88537 | E14: =HARMEAN(E2:E9) -> 216.56615 | F14: =HARMEAN(F2:F9) -> 593.05599 | G14: =HARMEAN(G2:G9) -> 997.48868 | H14: =HARMEAN(H2:H9) -> 1045.9917 | I14: =HARMEAN(I2:I9) -> 712.96906 | J14: =HARMEAN(J2:J9) -> 1187.6666 | K14: =HARMEAN(K2:K9) -> 1260.9065
A15: Média interna 25% | B15: 2 | C15: =TRIMMEAN(C2:C9,25%) -> 225.93333 | D15: =TRIMMEAN(D2:D9,25%) -> 261.93333 | E15: =TRIMMEAN(E2:E9,25%) -> 266.26667 | F15: =TRIMMEAN(F2:F9,25%) -> 632.285 | G15: =TRIMMEAN(G2:G9,25%) -> 1101.5 | H15: =TRIMMEAN(H2:H9,25%) -> 1158.3333 | I15: =TRIMMEAN(I2:I9,25%) -> 747.28667 | J15: =TRIMMEAN(J2:J9,25%) -> 1248.9883 | K15: =TRIMMEAN(K2:K9,25%) -> 1303.655
A16: Média interna 50% | B16: 3 | C16: =TRIMMEAN(C2:C9,50%) -> 217.65 | D16: =TRIMMEAN(D2:D9,50%) -> 238.15 | E16: =TRIMMEAN(E2:E9,50%) -> 222.65 | F16: =TRIMMEAN(F2:F9,50%) -> 635.75 | G16: =TRIMMEAN(G2:G9,50%) -> 1127.5 | H16: =TRIMMEAN(H2:H9,50%) -> 1166.25 | I16: =TRIMMEAN(I2:I9,50%) -> 750.93 | J16: =TRIMMEAN(J2:J9,50%) -> 1278.4825 | K16: =TRIMMEAN(K2:K9,50%) -> 1332.9825
A17: Mediana | B17: 6 | C17: =MEDIAN(C2:C9) -> 204.5 | D17: =MEDIAN(D2:D9) -> 230.5 | E17: =MEDIAN(E2:E9) -> 204.5 | F17: =MEDIAN(F2:F9) -> 600 | G17: =MEDIAN(G2:G9) -> 1150 | H17: =MEDIAN(H2:H9) -> 1178 | I17: =MEDIAN(I2:I9) -> 746.5 | J17: =MEDIAN(J2:J9) -> 1242.465 | K17: =MEDIAN(K2:K9) -> 1338.965
A18: Média das médias | B18: 8 | C18: =AVERAGE(C11:C17) -> 215.11306 | D18: =AVERAGE(D11:D17) -> 254.03629 | E18: =AVERAGE(E11:E17) -> 255.96802 | F18: =AVERAGE(F11:F17) -> 621.88213 | G18: =AVERAGE(G11:G17) -> 1095.4958 | H18: =AVERAGE(H11:H17) -> 1146.0711 | I18: =AVERAGE(I11:I17) -> 741.99941 | J18: =AVERAGE(J11:J17) -> 1242.3971 | K18: =AVERAGE(K11:K17) -> 1323.1622
A20: Média ponderada das médias | C20: =(((C11*B11)+(C12*B12)+(C13*B13)+(C14*B14)+(C15*B15)+(C16*B16)+(C17*B17)+(C18*B18))/SUM(B11:B18)) -> 213.2646 | D20: =(((D11*C11)+(D12*C12)+(D13*C13)+(D14*C14)+(D15*C15)+(D16*C16)+(D17*C17)+(D18*C18))/SUM(C11:C18)) -> 255.13231 | E20: =(((E11*D11)+(E12*D12)+(E13*D13)+(E14*D14)+(E15*D15)+(E16*D16)+(E17*D17)+(E18*D18))/SUM(D11:D18)) -> 260.67789 | F20: =(((F11*E11)+(F12*E12)+(F13*E13)+(F14*E14)+(F15*E15)+(F16*E16)+(F17*E17)+(F18*E18))/SUM(E11:E18)) -> 624.28845 | G20: =(((G11*F11)+(G12*F12)+(G13*F13)+(G14*F14)+(G15*F15)+(G16*F16)+(G17*F17)+(G18*F18))/SUM(F11:F18)) -> 1096.3145 | H20: =(((H11*G11)+(H12*G12)+(H13*G13)+(H14*G14)+(H15*G15)+(H16*G16)+(H17*G17)+(H18*G18))/SUM(G11:G18)) -> 1148.2727 | I20: =(((I11*H11)+(I12*H12)+(I13*H13)+(I14*H14)+(I15*H15)+(I16*H16)+(I17*H17)+(I18*H18))/SUM(H11:H18)) -> 742.61715 | J20: =(((J11*I11)+(J12*I12)+(J13*I13)+(J14*I14)+(J15*I15)+(J16*I16)+(J17*I17)+(J18*I18))/SUM(I11:I18)) -> 1242.869 | K20: =(((K11*J11)+(K12*J12)+(K13*J13)+(K14*J14)+(K15*J15)+(K16*J16)+(K17*J17)+(K18*J18))/SUM(J11:J18)) -> 1323.7948
A22: lauda por caracter | C22: =C20/1440 -> 0.14810042 | D22: =D20/1440 -> 0.17717521 | E22: =E20/1440 -> 0.18102631
A24: diária por hora | F24: =F20/5 -> 124.85769 | G24: =G20/7 -> 156.61636 | H24: =H20/5 -> 229.65454 | I24: =I20/5 -> 148.52343 | J24: =J20/7 -> 177.55272 | K24: =K20/5 -> 264.75897

Sheet 2025
B1: Peso | C1: Lauda 1 fonte | D1: Lauda 2 fontes | E1: Lauda 3 fontes | F1: Diária 5 h | G1: Diária 7h | H1: Domingos e Feriados | I1: Diária viagem 5h | J1: Diária Viagem 7h | K1: Viagem domingos e feriados
A2: MG | B2: 7 | C2: =('2024'!C2)+(('2024'!C2*3.85281)/100) -> 197.32034 | D2: =('2024'!D2)+(('2024'!D2*3.85281)/100) -> 197.32034 | E2: =('2024'!E2)+(('2024'!E2*3.85281)/100) -> 197.32034 | F2: =('2024'!F2)+(('2024'!F2*3.85281)/100) -> 598.19219 | G2: =('2024'!G2)+(('2024'!G2*3.85281)/100) -> 1142.3809 | H2: =('2024'!H2)+(('2024'!H2*3.85281)/100) -> 1200.5385 | I2: =('2024'!I2)+(('2024'!I2*3.85281)/100) -> 753.9714 | J2: =('2024'!J2)+(('2024'!J2*3.85281)/100) -> 1283.6207 | K2: =('2024'!K2)+(('2024'!K2*3.85281)/100) -> 1510.0199
A3: SP | B3: 8 | C3: =('2024'!C3)+(('2024'!C3*3.85281)/100) -> 379.06276 | D3: =('2024'!D3)+(('2024'!D3*3.85281)/100) -> 476.6844 | E3: =('2024'!E3)+(('2024'!E3*3.85281)/100) -> 568.07487 | F3: =('2024'!F3)+(('2024'!F3*3.85281)/100) -> 796.55105 | G3: =('2024'!G3)+(('2024'!G3*3.85281)/100) -> 1484.0567 | H3: =('2024'!H3)+(('2024'!H3*3.85281)/100) -> 1484.0567 | I3: =('2024'!I3)+(('2024'!I3*3.85281)/100) -> 796.55105 | J3: =('2024'!J3)+(('2024'!J3*3.85281)/100) -> 1484.0567 | K3: =('2024'!K3)+(('2024'!K3*3.85281)/100) -> 1484.0567
A4: Juiz de Fora | B4: 6 | C4: =('2024'!C4)+(('2024'!C4*3.85281)/100) -> 124.62337 | D4: =('2024'!D4)+(('2024'!D4*3.85281)/100) -> 124.62337 | E4: =('2024'!E4)+(('2024'!E4*3.85281)/100) -> 124.62337 | F4: =('2024'!F4)+(('2024'!F4*3.85281)/100) -> 410.2186 | G4: =('2024'!G4)+(('2024'!G4*3.85281)/100) -> 695.81383 | H4: =('2024'!H4)+(('2024'!H4*3.85281)/100) -> 815.24456 | I4: =('2024'!I4)+(('2024'!I4*3.85281)/100) -> 514.07141 | J4: =('2024'!J4)+(('2024'!J4*3.85281)/100) -> 872.3636 | K4: =('2024'!K4)+(('2024'!K4*3.85281)/100) -> 1028.1428
A5: ES | B5: 4 | C5: =('2024'!C5)+(('2024'!C5*3.85281)/100) -> 124.62337 | D5: =('2024'!D5)+(('2024'!D5*3.85281)/100) -> 251.3238 | E5: =('2024'!E5)+(('2024'!E5*3.85281)/100) -> 186.93506 | F5: =('2024'!F5)+(('2024'!F5*3.85281)/100) -> 814.20603 | G5: =('2024'!G5)+(('2024'!G5*3.85281)/100) -> 1381.2424 | H5: =('2024'!H5)+(('2024'!H5*3.85281)/100) -> 1615.9497 | I5: =('2024'!I5)+(('2024'!I5*3.85281)/100) -> 1018.7961 | J5: =('2024'!J5)+(('2024'!J5*3.85281)/100) -> 1732.2649 | K5: =('2024'!K5)+(('2024'!K5*3.85281)/100) -> 2036.5536
A6: SC | B6: 3 | C6: =('2024'!C6)+(('2024'!C6*3.85281)/100) -> 379.06276 | D6: =('2024'!D6)+(('2024'!D6*3.85281)/100) -> 476.6844 | E6: =('2024'!E6)+(('2024'!E6*3.85281)/100) -> 568.07487 | F6: =('2024'!F6)+(('2024'!F6*3.85281)/100) -> 623.11686 | G6: =('2024'!G6)+(('2024'!G6*3.85281)/100) -> 1557.7921 | H6: =('2024'!H6)+(('2024'!H6*3.85281)/100) -> 1557.7921 | I6: =('2024'!I6)+(('2024'!I6*3.85281)/100) -> 623.11686 | J6: =('2024'!J6)+(('2024'!J6*3.85281)/100) -> 1557.7921 | K6: =('2024'!K6)+(('2024'!K6*3.85281)/100) -> 1557.7921
A7: RS | B7: 2 | C7: =('2024'!C7)+(('2024'!C7*3.85281)/100) -> 227.43765 | D7: =('2024'!D7)+(('2024'!D7*3.85281)/100) -> 227.43765 | E7: =('2024'!E7)+(('2024'!E7*3.85281)/100) -> 227.43765 | F7: =('2024'!F7)+(('2024'!F7*3.85281)/100) -> 890.3613 | G7: =('2024'!G7)+(('2024'!G7*3.85281)/100) -> 1246.2337 | H7: =('2024'!H7)+(('2024'!H7*3.85281)/100) -> 1246.2337 | I7: =('2024'!I7)+(('2024'!I7*3.85281)/100) -> 890.3613 | J7: =('2024'!J7)+(('2024'!J7*3.85281)/100) -> 1246.2337 | K7: =('2024'!K7)+(('2024'!K7*3.85281)/100) -> 1246.2337
A8: CE | B8: 1 | C8: =('2024'!C8)+(('2024'!C8*3.85281)/100) -> 313.22007 | D8: =('2024'!D8)+(('2024'!D8*3.85281)/100) -> 313.22007 | E8: =('2024'!E8)+(('2024'!E8*3.85281)/100) -> 313.22007 | F8: =('2024'!F8)+(('2024'!F8*3.85281)/100) -> 484.69145 | G8: =('2024'!G8)+(('2024'!G8*3.85281)/100) -> 678.56388 | H8: =('2024'!H8)+(('2024'!H8*3.85281)/100) -> 678.56388 | I8: =('2024'!I8)+(('2024'!I8*3.85281)/100) -> 678.56388 | J8: =('2024'!J8)+(('2024'!J8*3.85281)/100) -> 1297.0489 | K8: =('2024'!K8)+(('2024'!K8*3.85281)/100) -> 1297.0489
A9: GO | B9: 5 | C9: =('2024'!C9)+(('2024'!C9*3.85281)/100) -> 166.1645 | D9: =('2024'!D9)+(('2024'!D9*3.85281)/100) -> 166.1645 | E9: =('2024'!E9)+(('2024'!E9*3.85281)/100) -> 166.1645 | F9: =('2024'!F9)+(('2024'!F9*3.85281)/100) -> 623.11686 | G9: =('2024'!G9)+(('2024'!G9*3.85281)/100) -> 913.90473 | H9: =('2024'!H9)+(('2024'!H9*3.85281)/100) -> 913.90473 | I9: =('2024'!I9)+(('2024'!I9*3.85281)/100) -> 913.90473 | J9: =('2024'!J9)+(('2024'!J9*3.85281)/100) -> 913.90473 | K9: =('2024'!K9)+(('2024'!K9*3.85281)/100) -> 913.90473
A11: Média ponderada | B11: 7 | C11: =(((C2*B2)+(C3*B3)+(C4*B4)+(C5*B5)+(C6*B6)+(C7*B7)+(C8*B8)+(C9*B9))/SUM(B2:B9)) -> 233.22456 | D11: =(((D2*C2)+(D3*C3)+(D4*C4)+(D5*C5)+(D6*C6)+(D7*C7)+(D8*C8)+(D9*C9))/SUM(C2:C9)) -> 326.76653 | E11: =(((E2*D2)+(E3*D3)+(E4*D4)+(E5*D5)+(E6*D6)+(E7*D7)+(E8*D8)+(E9*D9))/SUM(D2:D9)) -> 367.35749 | F11: =(((F2*E2)+(F3*E3)+(F4*E4)+(F5*E5)+(F6*E6)+(F7*E7)+(F8*E8)+(F9*E9))/SUM(E2:E9)) -> 674.23339 | G11: =(((G2*F2)+(G3*F3)+(G4*F4)+(G5*F5)+(G6*F6)+(G7*F7)+(G8*F8)+(G9*F9))/SUM(F2:F9)) -> 1193.4443 | H11: =(((H2*G2)+(H3*G3)+(H4*G4)+(H5*G5)+(H6*G6)+(H7*G7)+(H8*G8)+(H9*G9))/SUM(G2:G9)) -> 1280.074 | I11: =(((I2*H2)+(I3*H3)+(I4*H4)+(I5*H5)+(I6*H6)+(I7*H7)+(I8*H8)+(I9*H9))/SUM(H2:H9)) -> 791.46832 | J11: =(((J2*I2)+(J3*I3)+(J4*I4)+(J5*I5)+(J6*I6)+(J7*I7)+(J8*I8)+(J9*I9))/SUM(I2:I9)) -> 1318.2122 | K11: =(((K2*J2)+(K3*J3)+(K4*J4)+(K5*J5)+(K6*J6)+(K7*J7)+(K8*J8)+(K9*J9))/SUM(J2:J9)) -> 1450.1242
A12: Média geral | B12: 1 | C12: =AVERAGE(C2:C9) -> 238.93935 | D12: =AVERAGE(D2:D9) -> 279.18232 | E12: =AVERAGE(E2:E9) -> 293.98134 | F12: =AVERAGE(F2:F9) -> 655.05679 | G12: =AVERAGE(G2:G9) -> 1137.4985 | H12: =AVERAGE(H2:H9) -> 1189.0355 | I12: =AVERAGE(I2:I9) -> 773.66709 | J12: =AVERAGE(J2:J9) -> 1298.4107 | K12: =AVERAGE(K2:K9) -> 1384.2191
A13: Média Geométrica | B13: 5 | C13: =GEOMEAN(C2:C9) -> 218.59006 | D13: =GEOMEAN(D2:D9) -> 252.69092 | E13: =GEOMEAN(E2:E9) -> 254.42831 | F13: =GEOMEAN(F2:F9) -> 635.69212 | G13: =GEOMEAN(G2:G9) -> 1087.8728 | H13: =GEOMEAN(H2:H9) -> 1138.6569 | I13: =GEOMEAN(I2:I9) -> 757.33553 | J13: =GEOMEAN(J2:J9) -> 1266.618 | K13: =GEOMEAN(K2:K9) -> 1346.3829
A14: Média Harmônica | B14: 4 | C14: =HARMEAN(C2:C9) -> 199.99994 | D14: =HARMEAN(D2:D9) -> 229.39566 | E14: =HARMEAN(E2:E9) -> 224.91004 | F14: =HARMEAN(F2:F9) -> 615.90532 | G14: =HARMEAN(G2:G9) -> 1035.92 | H14: =HARMEAN(H2:H9) -> 1086.2918 | I14: =HARMEAN(I2:I9) -> 740.4384 | J14: =HARMEAN(J2:J9) -> 1233.4251 | K14: =HARMEAN(K2:K9) -> 1309.4868
A15: Média interna 25% | B15: 2 | C15: =TRIMMEAN(C2:C9,25%) -> 234.63812 | D15: =TRIMMEAN(D2:D9,25%) -> 272.02513 | E15: =TRIMMEAN(E2:E9,25%) -> 276.52542 | F15: =TRIMMEAN(F2:F9,25%) -> 656.64574 | G15: =TRIMMEAN(G2:G9,25%) -> 1143.9387 | H15: =TRIMMEAN(H2:H9,25%) -> 1202.9617 | I15: =TRIMMEAN(I2:I9,25%) -> 776.0782 | J15: =TRIMMEAN(J2:J9,25%) -> 1297.1095 | K15: =TRIMMEAN(K2:K9,25%) -> 1353.8824
A16: Média interna 50% | B16: 3 | C16: =TRIMMEAN(C2:C9,50%) -> 226.03564 | D16: =TRIMMEAN(D2:D9,50%) -> 247.32547 | E16: =TRIMMEAN(E2:E9,50%) -> 231.22828 | F16: =TRIMMEAN(F2:F9,50%) -> 660.24424 | G16: =TRIMMEAN(G2:G9,50%) -> 1170.9404 | H16: =TRIMMEAN(H2:H9,50%) -> 1211.1834 | I16: =TRIMMEAN(I2:I9,50%) -> 779.86191 | J16: =TRIMMEAN(J2:J9,50%) -> 1327.74 | K16: =TRIMMEAN(K2:K9,50%) -> 1384.3398
A17: Mediana | B17: 6 | C17: =MEDIAN(C2:C9) -> 212.379 | D17: =MEDIAN(D2:D9) -> 239.38073 | E17: =MEDIAN(E2:E9) -> 212.379 | F17: =MEDIAN(F2:F9) -> 623.11686 | G17: =MEDIAN(G2:G9) -> 1194.3073 | H17: =MEDIAN(H2:H9) -> 1223.3861 | I17: =MEDIAN(I2:I9) -> 775.26123 | J17: =MEDIAN(J2:J9) -> 1290.3348 | K17: =MEDIAN(K2:K9) -> 1390.5528
A18: Média das médias | B18: 8 | C18: =AVERAGE(C11:C17) -> 223.40095 | D18: =AVERAGE(D11:D17) -> 263.82382 | E18: =AVERAGE(E11:E17) -> 265.82998 | F18: =AVERAGE(F11:F17) -> 645.84207 | G18: =AVERAGE(G11:G17) -> 1137.7032 | H18: =AVERAGE(H11:H17) -> 1190.2271 | I18: =AVERAGE(I11:I17) -> 770.58724 | J18: =AVERAGE(J11:J17) -> 1290.2643 | K18: =AVERAGE(K11:K17) -> 1374.1411
A20: Média ponderada das médias | C20: =(((C11*B11)+(C12*B12)+(C13*B13)+(C14*B14)+(C15*B15)+(C16*B16)+(C17*B17)+(C18*B18))/SUM(B11:B18)) -> 221.48128 | D20: =(((D11*C11)+(D12*C12)+(D13*C13)+(D14*C14)+(D15*C15)+(D16*C16)+(D17*C17)+(D18*C18))/SUM(C11:C18)) -> 264.96207 | E20: =(((E11*D11)+(E12*D12)+(E13*D13)+(E14*D14)+(E15*D15)+(E16*D16)+(E17*D17)+(E18*D18))/SUM(D11:D18)) -> 270.72132 | F20: =(((F11*E11)+(F12*E12)+(F13*E13)+(F14*E14)+(F15*E15)+(F16*E16)+(F17*E17)+(F18*E18))/SUM(E11:E18)) -> 648.3411 | G20: =(((G11*F11)+(G12*F12)+(G13*F13)+(G14*F14)+(G15*F15)+(G16*F16)+(G17*F17)+(G18*F18))/SUM(F11:F18)) -> 1138.5534 | H20: =(((H11*G11)+(H12*G12)+(H13*G13)+(H14*G14)+(H15*G15)+(H16*G16)+(H17*G17)+(H18*G18))/SUM(G11:G18)) -> 1192.5135 | I20: =(((I11*H11)+(I12*H12)+(I13*H13)+(I14*H14)+(I15*H15)+(I16*H16)+(I17*H17)+(I18*H18))/SUM(H11:H18)) -> 771.22878 | J20: =(((J11*I11)+(J12*I12)+(J13*I13)+(J14*I14)+(J15*I15)+(J16*I16)+(J17*I17)+(J18*I18))/SUM(I11:I18)) -> 1290.7544 | K20: =(((K11*J11)+(K12*J12)+(K13*J13)+(K14*J14)+(K15*J15)+(K16*J16)+(K17*J17)+(K18*J18))/SUM(J11:J18)) -> 1374.7981
A22: lauda por caracter | C22: =C20/1440 -> 0.15380644 | D22: =D20/1440 -> 0.18400144 | E22: =E20/1440 -> 0.18800091
A24: diária por hora | F24: =F20/5 -> 129.66822 | G24: =G20/7 -> 162.65049 | H24: =H20/5 -> 238.50269 | I24: =I20/5 -> 154.24576 | J24: =J20/7 -> 184.39349 | K24: =K20/5 -> 274.95963
